Package: MoonlightR Version: 1.37.0 Command: /home/biocbuild/bbs-3.23-bioc/R/bin/R CMD build --keep-empty-dirs --no-resave-data MoonlightR StartedAt: 2025-11-14 18:46:22 -0500 (Fri, 14 Nov 2025) EndedAt: 2025-11-14 18:48:25 -0500 (Fri, 14 Nov 2025) EllapsedTime: 123.1 seconds RetCode: 0 Status: OK PackageFile: MoonlightR_1.37.0.tar.gz PackageFileSize: 14.75 MiB