Package: MoonlightR Version: 1.37.0 Command: /Library/Frameworks/R.framework/Resources/bin/R CMD INSTALL MoonlightR StartedAt: 2025-11-13 15:28:32 -0500 (Thu, 13 Nov 2025) EndedAt: 2025-11-13 15:28:57 -0500 (Thu, 13 Nov 2025) EllapsedTime: 24.8 seconds RetCode: 0 Status: OK