Package: MoonlightR Version: 1.37.0 Command: /Library/Frameworks/R.framework/Resources/bin/R CMD build --keep-empty-dirs --no-resave-data MoonlightR StartedAt: 2025-11-13 17:04:51 -0500 (Thu, 13 Nov 2025) EndedAt: 2025-11-13 17:05:49 -0500 (Thu, 13 Nov 2025) EllapsedTime: 57.6 seconds RetCode: 0 Status: OK PackageFile: MoonlightR_1.37.0.tar.gz PackageFileSize: 15.56 MiB