Package: Moonlight2R Version: 1.9.0 Command: /Library/Frameworks/R.framework/Resources/bin/R CMD INSTALL Moonlight2R StartedAt: 2025-11-14 15:25:09 -0500 (Fri, 14 Nov 2025) EndedAt: 2025-11-14 15:25:32 -0500 (Fri, 14 Nov 2025) EllapsedTime: 22.5 seconds RetCode: 0 Status: OK