Package: Moonlight2R Version: 1.9.0 Command: /Library/Frameworks/R.framework/Resources/bin/R CMD build --keep-empty-dirs --no-resave-data Moonlight2R StartedAt: 2025-11-14 17:01:43 -0500 (Fri, 14 Nov 2025) EndedAt: 2025-11-14 17:04:34 -0500 (Fri, 14 Nov 2025) EllapsedTime: 170.9 seconds RetCode: 0 Status: OK PackageFile: Moonlight2R_1.9.0.tar.gz PackageFileSize: 4.95 MiB