Package: Moonlight2R Version: 1.9.0 Command: rm -rf Moonlight2R.buildbin-libdir && mkdir Moonlight2R.buildbin-libdir && /Users/biocbuild/BBS/utils/build-universal.sh Moonlight2R_1.9.0.tar.gz /Library/Frameworks/R.framework/Resources/bin/R Moonlight2R.buildbin-libdir StartedAt: 2025-11-14 23:41:31 -0500 (Fri, 14 Nov 2025) EndedAt: 2025-11-14 23:42:08 -0500 (Fri, 14 Nov 2025) EllapsedTime: 37.8 seconds RetCode: 0 Status: OK PackageFile: Moonlight2R_1.9.0.tgz PackageFileSize: 4.686 MiB