Package: MoleculeExperiment Version: 1.11.0 Command: /Library/Frameworks/R.framework/Resources/bin/R CMD INSTALL MoleculeExperiment StartedAt: 2025-11-13 15:14:51 -0500 (Thu, 13 Nov 2025) EndedAt: 2025-11-13 15:15:08 -0500 (Thu, 13 Nov 2025) EllapsedTime: 16.7 seconds RetCode: 0 Status: OK