Package: MoleculeExperiment Version: 1.11.0 Command: /Library/Frameworks/R.framework/Resources/bin/R CMD build --keep-empty-dirs --no-resave-data MoleculeExperiment StartedAt: 2025-11-13 17:04:16 -0500 (Thu, 13 Nov 2025) EndedAt: 2025-11-13 17:05:00 -0500 (Thu, 13 Nov 2025) EllapsedTime: 43.4 seconds RetCode: 0 Status: OK PackageFile: MoleculeExperiment_1.11.0.tar.gz PackageFileSize: 15.86 MiB