Package: MoleculeExperiment Version: 1.11.0 Maintainer: Shila Ghazanfar MaintainerEmail: shazanfar at gmail.com git_url: https://git.bioconductor.org/packages/MoleculeExperiment git_branch: devel git_last_commit: 35b0ff3 git_last_commit_date: 2025-10-29 11:22:45 -0500 (Wed, 29 Oct 2025)