Package: Modstrings Version: 1.27.0 Command: /home/biocbuild/bbs-3.23-bioc/R/bin/R CMD INSTALL Modstrings StartedAt: 2025-11-14 15:16:30 -0500 (Fri, 14 Nov 2025) EndedAt: 2025-11-14 15:16:35 -0500 (Fri, 14 Nov 2025) EllapsedTime: 4.4 seconds RetCode: 1 Status: ERROR