Package: Modstrings Version: 1.27.0 Command: /home/biocbuild/bbs-3.23-bioc/R/bin/R CMD build --keep-empty-dirs --no-resave-data Modstrings StartedAt: 2025-11-14 18:44:57 -0500 (Fri, 14 Nov 2025) EndedAt: 2025-11-14 18:45:01 -0500 (Fri, 14 Nov 2025) EllapsedTime: 4.0 seconds RetCode: 1 Status: ERROR PackageFile: None PackageFileSize: NA