Package: Modstrings Version: 1.27.0 Command: /Library/Frameworks/R.framework/Resources/bin/R CMD INSTALL Modstrings StartedAt: 2025-11-14 15:11:10 -0500 (Fri, 14 Nov 2025) EndedAt: 2025-11-14 15:11:13 -0500 (Fri, 14 Nov 2025) EllapsedTime: 2.1 seconds RetCode: 1 Status: ERROR