############################################################################## ############################################################################## ### ### Running command: ### ### /Library/Frameworks/R.framework/Resources/bin/R CMD INSTALL Modstrings ### ############################################################################## ############################################################################## * installing to library ‘/Library/Frameworks/R.framework/Versions/4.6-arm64/Resources/library’ * installing *source* package ‘Modstrings’ ... ** this is package ‘Modstrings’ version ‘1.27.0’ ** using staged installation ** R ** data ** inst ** byte-compile and prepare package for lazy loading Error in eval(exprs[i], envir) : object '.XString.equal' not found Error: unable to load R code in package ‘Modstrings’ Execution halted ERROR: lazy loading failed for package ‘Modstrings’ * removing ‘/Library/Frameworks/R.framework/Versions/4.6-arm64/Resources/library/Modstrings’