Package: Modstrings Version: 1.27.0 Command: /Library/Frameworks/R.framework/Resources/bin/R CMD build --keep-empty-dirs --no-resave-data Modstrings StartedAt: 2025-11-14 17:01:11 -0500 (Fri, 14 Nov 2025) EndedAt: 2025-11-14 17:01:13 -0500 (Fri, 14 Nov 2025) EllapsedTime: 2.0 seconds RetCode: 1 Status: ERROR PackageFile: None PackageFileSize: NA