Package: ModCon Version: 1.19.0 Command: /home/biocbuild/bbs-3.23-bioc/R/bin/R CMD INSTALL ModCon StartedAt: 2025-11-11 15:06:25 -0500 (Tue, 11 Nov 2025) EndedAt: 2025-11-11 15:06:40 -0500 (Tue, 11 Nov 2025) EllapsedTime: 14.5 seconds RetCode: 0 Status: OK