Package: ModCon Version: 1.19.0 Command: /Library/Frameworks/R.framework/Resources/bin/R CMD build --keep-empty-dirs --no-resave-data ModCon StartedAt: 2025-11-13 17:04:06 -0500 (Thu, 13 Nov 2025) EndedAt: 2025-11-13 17:04:44 -0500 (Thu, 13 Nov 2025) EllapsedTime: 38.4 seconds RetCode: 0 Status: OK PackageFile: ModCon_1.19.0.tar.gz PackageFileSize: 1.912 MiB