Package: ModCon Version: 1.19.0 Command: rm -rf ModCon.buildbin-libdir && mkdir ModCon.buildbin-libdir && /Users/biocbuild/BBS/utils/build-universal.sh ModCon_1.19.0.tar.gz /Library/Frameworks/R.framework/Resources/bin/R ModCon.buildbin-libdir StartedAt: 2025-11-12 21:03:21 -0500 (Wed, 12 Nov 2025) EndedAt: 2025-11-12 21:03:26 -0500 (Wed, 12 Nov 2025) EllapsedTime: 5.1 seconds RetCode: 0 Status: OK PackageFile: ModCon_1.19.0.tgz PackageFileSize: 1.957 MiB