Package: ModCon Version: 1.19.0 Maintainer: Johannes Ptok MaintainerEmail: Johannes.Ptok at posteo.de git_url: https://git.bioconductor.org/packages/ModCon git_branch: devel git_last_commit: b159276 git_last_commit_date: 2025-10-29 11:06:41 -0500 (Wed, 29 Oct 2025)