Package: MinimumDistance Version: 1.55.0 Command: /Library/Frameworks/R.framework/Resources/bin/R CMD INSTALL MinimumDistance StartedAt: 2025-11-13 15:20:35 -0500 (Thu, 13 Nov 2025) EndedAt: 2025-11-13 15:20:55 -0500 (Thu, 13 Nov 2025) EllapsedTime: 19.5 seconds RetCode: 0 Status: OK