Package: MinimumDistance Version: 1.55.0 Command: /Library/Frameworks/R.framework/Resources/bin/R CMD build --keep-empty-dirs --no-resave-data MinimumDistance StartedAt: 2025-11-13 17:01:43 -0500 (Thu, 13 Nov 2025) EndedAt: 2025-11-13 17:02:21 -0500 (Thu, 13 Nov 2025) EllapsedTime: 37.4 seconds RetCode: 0 Status: OK PackageFile: MinimumDistance_1.55.0.tar.gz PackageFileSize: 2.553 MiB