Package: MinimumDistance Version: 1.55.0 Command: rm -rf MinimumDistance.buildbin-libdir && mkdir MinimumDistance.buildbin-libdir && /Users/biocbuild/BBS/utils/build-universal.sh MinimumDistance_1.55.0.tar.gz /Library/Frameworks/R.framework/Resources/bin/R MinimumDistance.buildbin-libdir StartedAt: 2025-11-13 23:45:41 -0500 (Thu, 13 Nov 2025) EndedAt: 2025-11-13 23:46:05 -0500 (Thu, 13 Nov 2025) EllapsedTime: 23.5 seconds RetCode: 0 Status: OK PackageFile: MinimumDistance_1.55.0.tgz PackageFileSize: 3.652 MiB