Package: MinimumDistance Version: 1.55.0 Maintainer: Robert Scharpf MaintainerEmail: rscharpf at jhu.edu git_url: https://git.bioconductor.org/packages/MinimumDistance git_branch: devel git_last_commit: 3e07ba2 git_last_commit_date: 2025-10-29 10:10:57 -0500 (Wed, 29 Oct 2025)