Package: MicrobiotaProcess Version: 1.23.0 Command: /home/biocbuild/bbs-3.23-bioc/R/bin/R CMD INSTALL MicrobiotaProcess StartedAt: 2025-11-11 15:22:10 -0500 (Tue, 11 Nov 2025) EndedAt: 2025-11-11 15:23:11 -0500 (Tue, 11 Nov 2025) EllapsedTime: 61.4 seconds RetCode: 0 Status: OK