Package: MicrobiotaProcess Version: 1.23.0 Command: /home/biocbuild/bbs-3.23-bioc/R/bin/R CMD build --keep-empty-dirs --no-resave-data MicrobiotaProcess StartedAt: 2025-11-13 18:38:46 -0500 (Thu, 13 Nov 2025) EndedAt: 2025-11-13 18:41:25 -0500 (Thu, 13 Nov 2025) EllapsedTime: 159.1 seconds RetCode: 0 Status: OK PackageFile: MicrobiotaProcess_1.23.0.tar.gz PackageFileSize: 4.835 MiB