Package: MicrobiotaProcess Version: 1.23.0 Command: /Library/Frameworks/R.framework/Resources/bin/R CMD INSTALL MicrobiotaProcess StartedAt: 2025-11-12 15:24:48 -0500 (Wed, 12 Nov 2025) EndedAt: 2025-11-12 15:25:11 -0500 (Wed, 12 Nov 2025) EllapsedTime: 22.9 seconds RetCode: 0 Status: OK