Package: MicrobiotaProcess Version: 1.23.0 Maintainer: Shuangbin Xu MaintainerEmail: xshuangbin at 163.com git_url: https://git.bioconductor.org/packages/MicrobiotaProcess git_branch: devel git_last_commit: 9b6279e git_last_commit_date: 2025-10-29 10:58:25 -0500 (Wed, 29 Oct 2025)