Package: MicrobiomeProfiler Version: 1.17.0 Command: /Library/Frameworks/R.framework/Resources/bin/R CMD INSTALL MicrobiomeProfiler StartedAt: 2025-11-13 15:28:00 -0500 (Thu, 13 Nov 2025) EndedAt: 2025-11-13 15:28:09 -0500 (Thu, 13 Nov 2025) EllapsedTime: 9.5 seconds RetCode: 0 Status: OK