Package: MicrobiomeProfiler Version: 1.17.0 Command: /Library/Frameworks/R.framework/Resources/bin/R CMD build --keep-empty-dirs --no-resave-data MicrobiomeProfiler StartedAt: 2025-11-13 17:00:50 -0500 (Thu, 13 Nov 2025) EndedAt: 2025-11-13 17:01:04 -0500 (Thu, 13 Nov 2025) EllapsedTime: 14.2 seconds RetCode: 0 Status: OK PackageFile: MicrobiomeProfiler_1.17.0.tar.gz PackageFileSize: 1.051 MiB