Package: MicrobiomeProfiler Version: 1.17.0 Command: rm -rf MicrobiomeProfiler.buildbin-libdir && mkdir MicrobiomeProfiler.buildbin-libdir && /Users/biocbuild/BBS/utils/build-universal.sh MicrobiomeProfiler_1.17.0.tar.gz /Library/Frameworks/R.framework/Resources/bin/R MicrobiomeProfiler.buildbin-libdir StartedAt: 2025-11-13 23:45:29 -0500 (Thu, 13 Nov 2025) EndedAt: 2025-11-13 23:45:41 -0500 (Thu, 13 Nov 2025) EllapsedTime: 12.3 seconds RetCode: 0 Status: OK PackageFile: MicrobiomeProfiler_1.17.0.tgz PackageFileSize: 949.3 KiB