Package: MiPP Version: 1.83.0 Command: /Library/Frameworks/R.framework/Resources/bin/R CMD INSTALL MiPP StartedAt: 2025-11-14 15:07:46 -0500 (Fri, 14 Nov 2025) EndedAt: 2025-11-14 15:07:47 -0500 (Fri, 14 Nov 2025) EllapsedTime: 1.5 seconds RetCode: 0 Status: OK