Package: MiPP Version: 1.83.0 Command: /Library/Frameworks/R.framework/Resources/bin/R CMD build --keep-empty-dirs --no-resave-data MiPP StartedAt: 2025-11-14 16:58:54 -0500 (Fri, 14 Nov 2025) EndedAt: 2025-11-14 16:58:58 -0500 (Fri, 14 Nov 2025) EllapsedTime: 4.0 seconds RetCode: 0 Status: OK PackageFile: MiPP_1.83.0.tar.gz PackageFileSize: 410.4 KiB