Package: MiPP Version: 1.83.0 Command: rm -rf MiPP.buildbin-libdir && mkdir MiPP.buildbin-libdir && /Users/biocbuild/BBS/utils/build-universal.sh MiPP_1.83.0.tar.gz /Library/Frameworks/R.framework/Resources/bin/R MiPP.buildbin-libdir StartedAt: 2025-11-16 23:41:58 -0500 (Sun, 16 Nov 2025) EndedAt: 2025-11-16 23:42:01 -0500 (Sun, 16 Nov 2025) EllapsedTime: 3.1 seconds RetCode: 0 Status: OK PackageFile: MiPP_1.83.0.tgz PackageFileSize: 469.4 KiB