Package: Mfuzz Version: 2.71.0 Command: /Library/Frameworks/R.framework/Resources/bin/R CMD INSTALL Mfuzz StartedAt: 2025-11-23 15:08:06 -0500 (Sun, 23 Nov 2025) EndedAt: 2025-11-23 15:08:09 -0500 (Sun, 23 Nov 2025) EllapsedTime: 2.7 seconds RetCode: 0 Status: OK