Package: Mfuzz Version: 2.71.0 Command: /Library/Frameworks/R.framework/Resources/bin/R CMD build --keep-empty-dirs --no-resave-data Mfuzz StartedAt: 2025-11-21 16:56:02 -0500 (Fri, 21 Nov 2025) EndedAt: 2025-11-21 16:56:15 -0500 (Fri, 21 Nov 2025) EllapsedTime: 12.2 seconds RetCode: 0 Status: OK PackageFile: Mfuzz_2.71.0.tar.gz PackageFileSize: 819.7 KiB