Package: Mfuzz Version: 2.71.0 Command: rm -rf Mfuzz.buildbin-libdir && mkdir Mfuzz.buildbin-libdir && /Users/biocbuild/BBS/utils/build-universal.sh Mfuzz_2.71.0.tar.gz /Library/Frameworks/R.framework/Resources/bin/R Mfuzz.buildbin-libdir StartedAt: 2025-11-21 23:39:52 -0500 (Fri, 21 Nov 2025) EndedAt: 2025-11-21 23:39:59 -0500 (Fri, 21 Nov 2025) EllapsedTime: 6.2 seconds RetCode: 0 Status: OK PackageFile: Mfuzz_2.71.0.tgz PackageFileSize: 854.7 KiB