Package: MethylSeekR Version: 1.51.0 Command: /Library/Frameworks/R.framework/Resources/bin/R CMD INSTALL MethylSeekR StartedAt: 2025-11-19 15:18:28 -0500 (Wed, 19 Nov 2025) EndedAt: 2025-11-19 15:18:41 -0500 (Wed, 19 Nov 2025) EllapsedTime: 13.0 seconds RetCode: 0 Status: OK