Package: MethylSeekR Version: 1.51.0 Command: /Library/Frameworks/R.framework/Resources/bin/R CMD build --keep-empty-dirs --no-resave-data MethylSeekR StartedAt: 2025-11-19 16:56:42 -0500 (Wed, 19 Nov 2025) EndedAt: 2025-11-19 16:57:47 -0500 (Wed, 19 Nov 2025) EllapsedTime: 64.7 seconds RetCode: 0 Status: OK PackageFile: MethylSeekR_1.51.0.tar.gz PackageFileSize: 1.586 MiB