Package: MethylSeekR Version: 1.51.0 Command: rm -rf MethylSeekR.buildbin-libdir && mkdir MethylSeekR.buildbin-libdir && /Users/biocbuild/BBS/utils/build-universal.sh MethylSeekR_1.51.0.tar.gz /Library/Frameworks/R.framework/Resources/bin/R MethylSeekR.buildbin-libdir StartedAt: 2025-11-19 23:41:21 -0500 (Wed, 19 Nov 2025) EndedAt: 2025-11-19 23:41:38 -0500 (Wed, 19 Nov 2025) EllapsedTime: 16.3 seconds RetCode: 0 Status: OK PackageFile: MethylSeekR_1.51.0.tgz PackageFileSize: 1.649 MiB