Package: MethTargetedNGS Version: 1.43.0 Command: /home/biocbuild/bbs-3.23-bioc/R/bin/R CMD check --install=check:MethTargetedNGS.install-out.txt --library=/home/biocbuild/bbs-3.23-bioc/R/site-library --timings MethTargetedNGS_1.43.0.tar.gz StartedAt: 2025-11-15 01:16:59 -0500 (Sat, 15 Nov 2025) EndedAt: 2025-11-15 01:19:30 -0500 (Sat, 15 Nov 2025) EllapsedTime: 151.1 seconds RetCode: 0 Status: OK CheckDir: MethTargetedNGS.Rcheck Warnings: 0