Package: MethTargetedNGS Version: 1.43.0 Command: /home/biocbuild/bbs-3.23-bioc/R/bin/R CMD build --keep-empty-dirs --no-resave-data MethTargetedNGS StartedAt: 2025-11-14 18:33:20 -0500 (Fri, 14 Nov 2025) EndedAt: 2025-11-14 18:33:40 -0500 (Fri, 14 Nov 2025) EllapsedTime: 20.0 seconds RetCode: 0 Status: OK PackageFile: MethTargetedNGS_1.43.0.tar.gz PackageFileSize: 282.5 KiB