Package: MethTargetedNGS Version: 1.43.0 Command: /Library/Frameworks/R.framework/Resources/bin/R CMD INSTALL MethTargetedNGS StartedAt: 2025-11-13 15:29:22 -0500 (Thu, 13 Nov 2025) EndedAt: 2025-11-13 15:29:27 -0500 (Thu, 13 Nov 2025) EllapsedTime: 5.4 seconds RetCode: 0 Status: OK