Package: MethTargetedNGS Version: 1.43.0 Command: /Library/Frameworks/R.framework/Resources/bin/R CMD build --keep-empty-dirs --no-resave-data MethTargetedNGS StartedAt: 2025-11-13 16:57:33 -0500 (Thu, 13 Nov 2025) EndedAt: 2025-11-13 16:57:44 -0500 (Thu, 13 Nov 2025) EllapsedTime: 10.1 seconds RetCode: 0 Status: OK PackageFile: MethTargetedNGS_1.43.0.tar.gz PackageFileSize: 282.6 KiB