Package: MethTargetedNGS Version: 1.43.0 Command: rm -rf MethTargetedNGS.buildbin-libdir && mkdir MethTargetedNGS.buildbin-libdir && /Users/biocbuild/BBS/utils/build-universal.sh MethTargetedNGS_1.43.0.tar.gz /Library/Frameworks/R.framework/Resources/bin/R MethTargetedNGS.buildbin-libdir StartedAt: 2025-11-13 23:44:49 -0500 (Thu, 13 Nov 2025) EndedAt: 2025-11-13 23:44:56 -0500 (Thu, 13 Nov 2025) EllapsedTime: 7.1 seconds RetCode: 0 Status: OK PackageFile: MethTargetedNGS_1.43.0.tgz PackageFileSize: 323.8 KiB