Package: MethTargetedNGS Version: 1.43.0 Maintainer: Muhammad Ahmer Jamil MaintainerEmail: engr.ahmerjamil at gmail.com git_url: https://git.bioconductor.org/packages/MethTargetedNGS git_branch: devel git_last_commit: 53cf09a git_last_commit_date: 2025-10-29 10:25:34 -0500 (Wed, 29 Oct 2025)