Package: MethReg Version: 1.21.0 Command: /Library/Frameworks/R.framework/Resources/bin/R CMD INSTALL MethReg StartedAt: 2025-11-14 15:28:02 -0500 (Fri, 14 Nov 2025) EndedAt: 2025-11-14 15:28:23 -0500 (Fri, 14 Nov 2025) EllapsedTime: 21.1 seconds RetCode: 0 Status: OK