Package: MethReg Version: 1.21.0 Command: /Library/Frameworks/R.framework/Resources/bin/R CMD build --keep-empty-dirs --no-resave-data MethReg StartedAt: 2025-11-14 16:54:22 -0500 (Fri, 14 Nov 2025) EndedAt: 2025-11-14 16:58:54 -0500 (Fri, 14 Nov 2025) EllapsedTime: 271.1 seconds RetCode: 0 Status: OK PackageFile: MethReg_1.21.0.tar.gz PackageFileSize: 5.388 MiB