Package: MethReg Version: 1.21.0 Maintainer: Tiago Silva MaintainerEmail: tiagochst at gmail.com git_url: https://git.bioconductor.org/packages/MethReg git_branch: devel git_last_commit: c52c384 git_last_commit_date: 2025-10-29 11:02:28 -0500 (Wed, 29 Oct 2025)