Package: MethPed Version: 1.39.0 Command: /Library/Frameworks/R.framework/Resources/bin/R CMD INSTALL MethPed StartedAt: 2025-11-14 15:08:13 -0500 (Fri, 14 Nov 2025) EndedAt: 2025-11-14 15:08:17 -0500 (Fri, 14 Nov 2025) EllapsedTime: 3.7 seconds RetCode: 0 Status: OK