Package: MethPed Version: 1.39.0 Command: rm -rf MethPed.buildbin-libdir && mkdir MethPed.buildbin-libdir && /Users/biocbuild/BBS/utils/build-universal.sh MethPed_1.39.0.tar.gz /Library/Frameworks/R.framework/Resources/bin/R MethPed.buildbin-libdir StartedAt: 2025-11-14 23:39:53 -0500 (Fri, 14 Nov 2025) EndedAt: 2025-11-14 23:39:58 -0500 (Fri, 14 Nov 2025) EllapsedTime: 5.1 seconds RetCode: 0 Status: OK PackageFile: MethPed_1.39.0.tgz PackageFileSize: 9.315 MiB