Package: MetaboSignal Version: 1.41.0 Command: /home/biocbuild/bbs-3.23-bioc/R/bin/R CMD INSTALL MetaboSignal StartedAt: 2025-11-11 15:47:29 -0500 (Tue, 11 Nov 2025) EndedAt: 2025-11-11 15:48:23 -0500 (Tue, 11 Nov 2025) EllapsedTime: 54.1 seconds RetCode: 0 Status: OK